BEGIN:VCALENDAR
VERSION:2.0
PRODID:-//Colfax Chamber of Commerce - ECPv6.15.20//NONSGML v1.0//EN
CALSCALE:GREGORIAN
METHOD:PUBLISH
X-WR-CALNAME:Colfax Chamber of Commerce
X-ORIGINAL-URL:https://explorecolfaxwa.com
X-WR-CALDESC:Events for Colfax Chamber of Commerce
REFRESH-INTERVAL;VALUE=DURATION:PT1H
X-Robots-Tag:noindex
X-PUBLISHED-TTL:PT1H
BEGIN:VTIMEZONE
TZID:UTC
BEGIN:STANDARD
TZOFFSETFROM:+0000
TZOFFSETTO:+0000
TZNAME:UTC
DTSTART:20220101T000000
END:STANDARD
END:VTIMEZONE
BEGIN:VEVENT
DTSTART;TZID=UTC:20241025T153000
DTEND;TZID=UTC:20241025T173000
DTSTAMP:20260422T145431
CREATED:20240930T230956Z
LAST-MODIFIED:20250128T185649Z
UID:10000011-1729870200-1729877400@explorecolfaxwa.com
SUMMARY:Main Street Trick or Treat
DESCRIPTION:
URL:https://explorecolfaxwa.com/event/main-street-trick-or-treat/
LOCATION:Main Street Downtown Colfax\, WA 99111
ORGANIZER;CN="Colfax Chamber of Commerce":MAILTO:colfaxchamber@gmail.com
END:VEVENT
BEGIN:VEVENT
DTSTART;TZID=UTC:20231201T153000
DTEND;TZID=UTC:20231201T200000
DTSTAMP:20260422T145431
CREATED:20231130T194824Z
LAST-MODIFIED:20250128T185715Z
UID:10000003-1701444600-1701460800@explorecolfaxwa.com
SUMMARY:Winterfest Holiday Festivities & Lighted Parade
DESCRIPTION:Don’t miss this wonderful holiday tradition in downtown Colfax. Fun for all ages. More information to come.
URL:https://explorecolfaxwa.com/event/winterfest-holiday-festivities-lighted-parade/
LOCATION:Main Street Downtown Colfax\, WA 99111
ATTACH;FMTTYPE=image/png:https://explorecolfaxwa.com/wp-content/uploads/2023/11/ada2bf_f7a156b6a2264a989a53b20ca334fb24mv2.png
END:VEVENT
BEGIN:VEVENT
DTSTART;VALUE=DATE:20231109
DTEND;VALUE=DATE:20231112
DTSTAMP:20260422T145431
CREATED:20231201T001159Z
LAST-MODIFIED:20250128T185715Z
UID:10000004-1699488000-1699747199@explorecolfaxwa.com
SUMMARY:Colfax Downtown Open House
DESCRIPTION:Colfax Businesses pull out all the stops for this holiday shopping season kickoff event\, decorations\, sales\, and more. Don’t forget your Passport to Colfax can be used during this fun shopping event.
URL:https://explorecolfaxwa.com/event/colfax-downtown-open-house/
LOCATION:Main Street Downtown Colfax\, WA 99111
ATTACH;FMTTYPE=image/jpeg:https://explorecolfaxwa.com/wp-content/uploads/2023/12/87b74c_a5610ea2430d421d8cefb11e6cc6aecemv2.jpg
END:VEVENT
BEGIN:VEVENT
DTSTART;TZID=UTC:20231027T150000
DTEND;TZID=UTC:20231027T170000
DTSTAMP:20260422T145431
CREATED:20231201T001527Z
LAST-MODIFIED:20250128T185716Z
UID:10000005-1698418800-1698426000@explorecolfaxwa.com
SUMMARY:Trick or Treat on Main Street
DESCRIPTION:Come downtown ghouls and gals to a Free\, Fun Family Event on Main Street. Colfax Businesses pull out the stops for our favorite citizens\, Trick or Treaters welcome 3-5:30 pm. Sponsored by the Colfax Chamber of Commerce and local businesses.
URL:https://explorecolfaxwa.com/event/trick-or-treat-on-main-street/
LOCATION:Main Street Downtown Colfax\, WA 99111
ATTACH;FMTTYPE=image/jpeg:https://explorecolfaxwa.com/wp-content/uploads/2023/12/87b74c_aca2d90d7348460a9ecbef7cbcd9c3d3mv2.jpg
END:VEVENT
END:VCALENDAR