BEGIN:VCALENDAR
VERSION:2.0
PRODID:-//Colfax Chamber of Commerce - ECPv6.15.20//NONSGML v1.0//EN
CALSCALE:GREGORIAN
METHOD:PUBLISH
X-WR-CALNAME:Colfax Chamber of Commerce
X-ORIGINAL-URL:https://explorecolfaxwa.com
X-WR-CALDESC:Events for Colfax Chamber of Commerce
REFRESH-INTERVAL;VALUE=DURATION:PT1H
X-Robots-Tag:noindex
X-PUBLISHED-TTL:PT1H
BEGIN:VTIMEZONE
TZID:UTC
BEGIN:STANDARD
TZOFFSETFROM:+0000
TZOFFSETTO:+0000
TZNAME:UTC
DTSTART:20250101T000000
END:STANDARD
END:VTIMEZONE
BEGIN:VEVENT
DTSTART;TZID=UTC:20260201T110000
DTEND;TZID=UTC:20260201T140000
DTSTAMP:20260421T181347
CREATED:20260112T211015Z
LAST-MODIFIED:20260217T211450Z
UID:10000494-1769943600-1769954400@explorecolfaxwa.com
SUMMARY:Brunch at The Cellar
DESCRIPTION:Sundays: 11am-2pm. \nAny beverage from our regular menu. \n\nYogurt\, fruit & granola\nVegetarian specials\nWaffles\nBacon & Egg Strata\nBiscuits & Gravy\nMimosas & Coffee\n\nMake The Cellar part of your winter tradition. Our Sunday Brunch brings comforting flavors\, friendly faces\, and a warm place to gather during the cold months.
URL:https://explorecolfaxwa.com/event/brunch-at-the-cellar-3/
LOCATION:The Cellar\, 203 N Main St\, Colfax\, WA\, 99111\, United States
END:VEVENT
BEGIN:VEVENT
DTSTART;TZID=UTC:20260206T183000
DTEND;TZID=UTC:20260206T200000
DTSTAMP:20260421T181347
CREATED:20250328T203450Z
LAST-MODIFIED:20250410T212301Z
UID:10000163-1770402600-1770408000@explorecolfaxwa.com
SUMMARY:Dinner @ The Eagles
DESCRIPTION:Join us every Friday night from 6:30-8:00 pm at the Eagles Club in Colfax for a delicious dinner with a rotating menu each week. Everyone is welcome to attend and enjoy a great meal in a friendly atmosphere. Be sure to check our Facebook page for the weekly menu updates! \n217 N Main St #1816\, Colfax\, WA 99111 \nFraternal Order of Eagles #2317
URL:https://explorecolfaxwa.com/event/dinner-the-eagles/2026-02-06/
LOCATION:Fraternal Order of Eagles\, 217 N MAIN St\, Colfax\, WA\, 99111\, United States
END:VEVENT
BEGIN:VEVENT
DTSTART;TZID=UTC:20260209T113000
DTEND;TZID=UTC:20260209T113000
DTSTAMP:20260421T181347
CREATED:20260127T163004Z
LAST-MODIFIED:20260217T211450Z
UID:10000496-1770636600-1770636600@explorecolfaxwa.com
SUMMARY:Ribbon Cutting Celebration - Purpose Roasters
DESCRIPTION:Join the Colfax Chamber of Commerce as we celebrate an exciting new chapter for Purpose Roasters with a ribbon cutting ceremony — and welcome them as new members of the Colfax Chamber of Commerce! \nThis event marks a new location and a growing team\, and we’re thrilled to invite the community to come out and show support for a local business that brings people together over great coffee and shared purpose. \n– Date: February 9th 2026\n– Location: Purpose Roasters\n– Ribbon Cutting: 11:30am \nWhether you’re a longtime customer or have been meaning to stop in\, this is a great opportunity to connect\, celebrate\, and show support for a Chamber member investing in our community. We hope to see you there!
URL:https://explorecolfaxwa.com/event/ribbon-cutting-celebration-purpose-roasters/
LOCATION:Purpose Roasters\, 212 South Main Street\, Colfax\, WA\, 99111\, United States
END:VEVENT
BEGIN:VEVENT
DTSTART;TZID=UTC:20260213T183000
DTEND;TZID=UTC:20260213T200000
DTSTAMP:20260421T181347
CREATED:20250328T203450Z
LAST-MODIFIED:20250410T212301Z
UID:10000164-1771007400-1771012800@explorecolfaxwa.com
SUMMARY:Dinner @ The Eagles
DESCRIPTION:Join us every Friday night from 6:30-8:00 pm at the Eagles Club in Colfax for a delicious dinner with a rotating menu each week. Everyone is welcome to attend and enjoy a great meal in a friendly atmosphere. Be sure to check our Facebook page for the weekly menu updates! \n217 N Main St #1816\, Colfax\, WA 99111 \nFraternal Order of Eagles #2317
URL:https://explorecolfaxwa.com/event/dinner-the-eagles/2026-02-13/
LOCATION:Fraternal Order of Eagles\, 217 N MAIN St\, Colfax\, WA\, 99111\, United States
END:VEVENT
BEGIN:VEVENT
DTSTART;TZID=UTC:20260214T170000
DTEND;TZID=UTC:20260214T170000
DTSTAMP:20260421T181347
CREATED:20260112T211125Z
LAST-MODIFIED:20260217T211450Z
UID:10000491-1771088400-1771088400@explorecolfaxwa.com
SUMMARY:Valentine's Day Heroes Gala & Fundraiser
DESCRIPTION:5:00 – Social Hour & Silent Auction. \n6:30 – Buffet Dinner with Live Auction to follow. \n8:30 – Dancing Begins. \n*All proceeds go to support our community’s veterans\, law enforcement\, first responders\, and their families.
URL:https://explorecolfaxwa.com/event/valentines-day-heroes-gala-fundraiser/
LOCATION:Best Western Plus University Inn\, 1516 W Pullman Rd\, Moscow\, ID\, United States
END:VEVENT
BEGIN:VEVENT
DTSTART;TZID=UTC:20260219T174500
DTEND;TZID=UTC:20260219T191500
DTSTAMP:20260421T181347
CREATED:20260101T000003Z
LAST-MODIFIED:20260312T210952Z
UID:10000497-1771523100-1771528500@explorecolfaxwa.com
SUMMARY:Business After Hours
DESCRIPTION:Join us for our next Business After Hours — a casual mixer open to members and non-members alike. This is a chance to connect\, encourage one another\, and spotlight a local business in a relaxed\, after-hours setting.\nWhether you’re new to town or deeply rooted here\, we’d love to see you. Light snacks provided\, beer\, wine\, and cocktails will be available for purchase.  \nMembers: Free \nNon-Members: $10
URL:https://explorecolfaxwa.com/event/business-after-hours/
LOCATION:Fonks Coffee House\, 112 N Main St\, Colfax\, WA\, 99111\, United States
END:VEVENT
BEGIN:VEVENT
DTSTART;TZID=UTC:20260220T170000
DTEND;TZID=UTC:20260220T183000
DTSTAMP:20260421T181347
CREATED:20260101T001047Z
LAST-MODIFIED:20260312T210952Z
UID:10000515-1771606800-1771612200@explorecolfaxwa.com
SUMMARY:Palouse on the Palette
DESCRIPTION:A John Orfe Exhibit. \nMeet the Artist\, Friday\, Feb. 20 at the Libey Gallery
URL:https://explorecolfaxwa.com/event/palouse-on-the-palette/
LOCATION:The Center\, 110 S Main St\, Colfax\, WA\, 99111\, United States
ORGANIZER;CN="Whitman County Library":MAILTO:info@whitcolib.org
END:VEVENT
BEGIN:VEVENT
DTSTART;TZID=UTC:20260220T183000
DTEND;TZID=UTC:20260220T200000
DTSTAMP:20260421T181347
CREATED:20250328T203450Z
LAST-MODIFIED:20250410T212301Z
UID:10000165-1771612200-1771617600@explorecolfaxwa.com
SUMMARY:Dinner @ The Eagles
DESCRIPTION:Join us every Friday night from 6:30-8:00 pm at the Eagles Club in Colfax for a delicious dinner with a rotating menu each week. Everyone is welcome to attend and enjoy a great meal in a friendly atmosphere. Be sure to check our Facebook page for the weekly menu updates! \n217 N Main St #1816\, Colfax\, WA 99111 \nFraternal Order of Eagles #2317
URL:https://explorecolfaxwa.com/event/dinner-the-eagles/2026-02-20/
LOCATION:Fraternal Order of Eagles\, 217 N MAIN St\, Colfax\, WA\, 99111\, United States
END:VEVENT
BEGIN:VEVENT
DTSTART;TZID=UTC:20260222T110000
DTEND;TZID=UTC:20260222T140000
DTSTAMP:20260421T181347
CREATED:20260101T002033Z
LAST-MODIFIED:20260312T210952Z
UID:10000518-1771758000-1771768800@explorecolfaxwa.com
SUMMARY:Brunch at The Cellar
DESCRIPTION:Sundays: 11am-2pm. \nAny beverage from our regular menu. \n\nYogurt\, fruit & granola\nVegetarian specials\nWaffles\nBacon & Egg Strata\nBiscuits & Gravy\nMimosas & Coffee\n\nMake The Cellar part of your winter tradition. Our Sunday Brunch brings comforting flavors\, friendly faces\, and a warm place to gather during the cold months.
URL:https://explorecolfaxwa.com/event/brunch-at-the-cellar-4/
LOCATION:The Cellar\, 203 N Main St\, Colfax\, WA\, 99111\, United States
END:VEVENT
BEGIN:VEVENT
DTSTART;TZID=UTC:20260222T153000
DTEND;TZID=UTC:20260222T170000
DTSTAMP:20260421T181347
CREATED:20260101T003052Z
LAST-MODIFIED:20260312T210952Z
UID:10000502-1771774200-1771779600@explorecolfaxwa.com
SUMMARY:Community Grief Support Groups
DESCRIPTION:Gather with others in a confidential\, small\, and supportive setting. With care\, compassion\, and helpful resources\, we gently explore the journey through grief together. Pick the group that best supports your needs. \nPullman: Sundays 3:30pm – 5:00pm.\nFebruary 22 – March 29. \nColfax: Sundays 3:30pm – 5:00pm.\nApril 19th – May 31. \nPreregister by calling (509) 332-4414 or contacting director@friendsofhospice.net.
URL:https://explorecolfaxwa.com/event/community-grief-support-groups/
LOCATION:WA
END:VEVENT
BEGIN:VEVENT
DTSTART;VALUE=DATE:20260223
DTEND;VALUE=DATE:20260228
DTSTAMP:20260421T181347
CREATED:20260101T003544Z
LAST-MODIFIED:20260312T210904Z
UID:10000520-1771804800-1772236799@explorecolfaxwa.com
SUMMARY:CLOSED
DESCRIPTION:Our director is on vacation! We will be closed February 23rd – 27th 2026.
URL:https://explorecolfaxwa.com/event/closed/
LOCATION:WA
ORGANIZER;CN="Colfax Chamber of Commerce":MAILTO:colfaxchamber@gmail.com
END:VEVENT
BEGIN:VEVENT
DTSTART;TZID=UTC:20260227T183000
DTEND;TZID=UTC:20260227T200000
DTSTAMP:20260421T181347
CREATED:20250328T203450Z
LAST-MODIFIED:20250410T212301Z
UID:10000166-1772217000-1772222400@explorecolfaxwa.com
SUMMARY:Dinner @ The Eagles
DESCRIPTION:Join us every Friday night from 6:30-8:00 pm at the Eagles Club in Colfax for a delicious dinner with a rotating menu each week. Everyone is welcome to attend and enjoy a great meal in a friendly atmosphere. Be sure to check our Facebook page for the weekly menu updates! \n217 N Main St #1816\, Colfax\, WA 99111 \nFraternal Order of Eagles #2317
URL:https://explorecolfaxwa.com/event/dinner-the-eagles/2026-02-27/
LOCATION:Fraternal Order of Eagles\, 217 N MAIN St\, Colfax\, WA\, 99111\, United States
END:VEVENT
END:VCALENDAR