BEGIN:VCALENDAR
VERSION:2.0
PRODID:-//Colfax Chamber of Commerce - ECPv6.15.20//NONSGML v1.0//EN
CALSCALE:GREGORIAN
METHOD:PUBLISH
X-ORIGINAL-URL:https://explorecolfaxwa.com
X-WR-CALDESC:Events for Colfax Chamber of Commerce
REFRESH-INTERVAL;VALUE=DURATION:PT1H
X-Robots-Tag:noindex
X-PUBLISHED-TTL:PT1H
BEGIN:VTIMEZONE
TZID:UTC
BEGIN:STANDARD
TZOFFSETFROM:+0000
TZOFFSETTO:+0000
TZNAME:UTC
DTSTART:20250101T000000
END:STANDARD
END:VTIMEZONE
BEGIN:VEVENT
DTSTART;TZID=UTC:20260426T153000
DTEND;TZID=UTC:20260426T170000
DTSTAMP:20260423T191807
CREATED:20260101T024023Z
LAST-MODIFIED:20260217T221004Z
UID:10000509-1777217400-1777222800@explorecolfaxwa.com
SUMMARY:Community Grief Support Groups
DESCRIPTION:Gather with others in a confidential\, small\, and supportive setting. With care\, compassion\, and helpful resources\, we gently explore the journey through grief together. Pick the group that best supports your needs. \nPullman: Sundays 3:30pm – 5:00pm.\nFebruary 22 – March 29. \nColfax: Sundays 3:30pm – 5:00pm.\nApril 19th – May 31. \nPreregister by calling (509) 332-4414 or contacting director@friendsofhospice.net.
URL:https://explorecolfaxwa.com/event/community-grief-support-groups-8/
END:VEVENT
BEGIN:VEVENT
DTSTART;TZID=UTC:20260501T183000
DTEND;TZID=UTC:20260501T200000
DTSTAMP:20260423T191807
CREATED:20250328T203450Z
LAST-MODIFIED:20250410T212301Z
UID:10000175-1777660200-1777665600@explorecolfaxwa.com
SUMMARY:Dinner @ The Eagles
DESCRIPTION:Join us every Friday night from 6:30-8:00 pm at the Eagles Club in Colfax for a delicious dinner with a rotating menu each week. Everyone is welcome to attend and enjoy a great meal in a friendly atmosphere. Be sure to check our Facebook page for the weekly menu updates! \n217 N Main St #1816\, Colfax\, WA 99111 \nFraternal Order of Eagles #2317
URL:https://explorecolfaxwa.com/event/dinner-the-eagles/2026-05-01/
LOCATION:Fraternal Order of Eagles\, 217 N MAIN St\, Colfax\, WA\, 99111\, United States
END:VEVENT
BEGIN:VEVENT
DTSTART;TZID=UTC:20260503T153000
DTEND;TZID=UTC:20260503T170000
DTSTAMP:20260423T191807
CREATED:20260101T025056Z
LAST-MODIFIED:20260217T220940Z
UID:10000510-1777822200-1777827600@explorecolfaxwa.com
SUMMARY:Community Grief Support Groups
DESCRIPTION:Gather with others in a confidential\, small\, and supportive setting. With care\, compassion\, and helpful resources\, we gently explore the journey through grief together. Pick the group that best supports your needs. \nPullman: Sundays 3:30pm – 5:00pm.\nFebruary 22 – March 29. \nColfax: Sundays 3:30pm – 5:00pm.\nApril 19th – May 31. \nPreregister by calling (509) 332-4414 or contacting director@friendsofhospice.net.
URL:https://explorecolfaxwa.com/event/community-grief-support-groups-9/
END:VEVENT
BEGIN:VEVENT
DTSTART;TZID=UTC:20260505T130000
DTEND;TZID=UTC:20260505T150000
DTSTAMP:20260423T191807
CREATED:20260101T025308Z
LAST-MODIFIED:20260423T190422Z
UID:10000530-1777986000-1777993200@explorecolfaxwa.com
SUMMARY:Shred Day
DESCRIPTION:Safely & Securely Dispose of Sensitive Documents! \nWhat to Bring: \n\nOld paperwork\nFinancial documents\nMedical records\nTax files\nOther sensitive materials\n\nPlease Do Not Bring: \n\n3-ring binders or large binders\nPlastic folders or sheet protectors\nHanging file folders\nLaminated materials\nCDs\, DVDs\, USB drives\, or hard drives\nBatteries or electronics\nMetal objects larger than paper clips\n\nSuggested Donation: \n\n$5 – Individuals\n$25 – Businesses\n\nWho Can Participate? \n\nOpen to everyone\nIndividuals & businesses welcome\n\nQuestions? \n\n(509) 610-9028
URL:https://explorecolfaxwa.com/event/shred-day-2/
LOCATION:Rosaurs\, 632 N Main St\, Colfax\, WA\, 99111\, United States
ORGANIZER;CN="Colfax Chamber of Commerce":MAILTO:colfaxchamber@gmail.com
END:VEVENT
BEGIN:VEVENT
DTSTART;TZID=UTC:20260507T090000
DTEND;TZID=UTC:20260509T170000
DTSTAMP:20260423T191807
CREATED:20260101T025526Z
LAST-MODIFIED:20260423T185520Z
UID:10000528-1778144400-1778346000@explorecolfaxwa.com
SUMMARY:I Sew Shop Hop
DESCRIPTION:Presented to you by the following shops: \n\nBecky’s Sewing Center\nHome Grown Quilts\nThe Wild Hare Fabrics\nMaterial Girls\nPalouse River Quilts\nGathered\nLittle Denmark Quilt Co.\nRather-Be’s\nYour Best Friends Quilt Shop\nSew Happy Stitchery\n\nSaturday Hours: 9-3pm
URL:https://explorecolfaxwa.com/event/i-sew-shop-hop/
END:VEVENT
BEGIN:VEVENT
DTSTART;TZID=UTC:20260507T160000
DTEND;TZID=UTC:20260507T190000
DTSTAMP:20260423T191807
CREATED:20260101T025813Z
LAST-MODIFIED:20260423T191657Z
UID:10000531-1778169600-1778180400@explorecolfaxwa.com
SUMMARY:Colfax Farmers Market
DESCRIPTION:
URL:https://explorecolfaxwa.com/event/colfax-farmers-market-8/
LOCATION:Colfax Wa 99111\, Colfax\, WA\, 99111\, United States
END:VEVENT
BEGIN:VEVENT
DTSTART;TZID=UTC:20260508T183000
DTEND;TZID=UTC:20260508T200000
DTSTAMP:20260423T191808
CREATED:20250328T203450Z
LAST-MODIFIED:20250410T212301Z
UID:10000176-1778265000-1778270400@explorecolfaxwa.com
SUMMARY:Dinner @ The Eagles
DESCRIPTION:Join us every Friday night from 6:30-8:00 pm at the Eagles Club in Colfax for a delicious dinner with a rotating menu each week. Everyone is welcome to attend and enjoy a great meal in a friendly atmosphere. Be sure to check our Facebook page for the weekly menu updates! \n217 N Main St #1816\, Colfax\, WA 99111 \nFraternal Order of Eagles #2317
URL:https://explorecolfaxwa.com/event/dinner-the-eagles/2026-05-08/
LOCATION:Fraternal Order of Eagles\, 217 N MAIN St\, Colfax\, WA\, 99111\, United States
END:VEVENT
BEGIN:VEVENT
DTSTART;VALUE=DATE:20260509
DTEND;VALUE=DATE:20260510
DTSTAMP:20260423T191808
CREATED:20260101T030014Z
LAST-MODIFIED:20260217T230041Z
UID:10000517-1778284800-1778371199@explorecolfaxwa.com
SUMMARY:Colfax City Wide Yard Sale
DESCRIPTION:Time varies per location. \nJoin a virtual & printed map for a $5 registration fee. Sign up your address at www.explorecolfaxwa.com or at our office 104 S Main St\, Colfax\, WA. For more info\, call (509) 610-9028.
URL:https://explorecolfaxwa.com/event/colfax-city-wide-yard-sale-2/
LOCATION:Colfax Wa 99111\, Colfax\, WA\, 99111\, United States
ORGANIZER;CN="Colfax Chamber of Commerce":MAILTO:colfaxchamber@gmail.com
END:VEVENT
BEGIN:VEVENT
DTSTART;TZID=UTC:20260510T153000
DTEND;TZID=UTC:20260510T170000
DTSTAMP:20260423T191808
CREATED:20260101T031016Z
LAST-MODIFIED:20260217T220921Z
UID:10000511-1778427000-1778432400@explorecolfaxwa.com
SUMMARY:Community Grief Support Groups
DESCRIPTION:Gather with others in a confidential\, small\, and supportive setting. With care\, compassion\, and helpful resources\, we gently explore the journey through grief together. Pick the group that best supports your needs. \nPullman: Sundays 3:30pm – 5:00pm.\nFebruary 22 – March 29. \nColfax: Sundays 3:30pm – 5:00pm.\nApril 19th – May 31. \nPreregister by calling (509) 332-4414 or contacting director@friendsofhospice.net.
URL:https://explorecolfaxwa.com/event/community-grief-support-groups-10/
END:VEVENT
BEGIN:VEVENT
DTSTART;TZID=UTC:20260515T183000
DTEND;TZID=UTC:20260515T200000
DTSTAMP:20260423T191808
CREATED:20250328T203450Z
LAST-MODIFIED:20250410T212301Z
UID:10000177-1778869800-1778875200@explorecolfaxwa.com
SUMMARY:Dinner @ The Eagles
DESCRIPTION:Join us every Friday night from 6:30-8:00 pm at the Eagles Club in Colfax for a delicious dinner with a rotating menu each week. Everyone is welcome to attend and enjoy a great meal in a friendly atmosphere. Be sure to check our Facebook page for the weekly menu updates! \n217 N Main St #1816\, Colfax\, WA 99111 \nFraternal Order of Eagles #2317
URL:https://explorecolfaxwa.com/event/dinner-the-eagles/2026-05-15/
LOCATION:Fraternal Order of Eagles\, 217 N MAIN St\, Colfax\, WA\, 99111\, United States
END:VEVENT
BEGIN:VEVENT
DTSTART;TZID=UTC:20260517T153000
DTEND;TZID=UTC:20260517T170000
DTSTAMP:20260423T191808
CREATED:20260101T032035Z
LAST-MODIFIED:20260217T220855Z
UID:10000512-1779031800-1779037200@explorecolfaxwa.com
SUMMARY:Community Grief Support Groups
DESCRIPTION:Gather with others in a confidential\, small\, and supportive setting. With care\, compassion\, and helpful resources\, we gently explore the journey through grief together. Pick the group that best supports your needs. \nPullman: Sundays 3:30pm – 5:00pm.\nFebruary 22 – March 29. \nColfax: Sundays 3:30pm – 5:00pm.\nApril 19th – May 31. \nPreregister by calling (509) 332-4414 or contacting director@friendsofhospice.net.
URL:https://explorecolfaxwa.com/event/community-grief-support-groups-11/
END:VEVENT
BEGIN:VEVENT
DTSTART;TZID=UTC:20260522T183000
DTEND;TZID=UTC:20260522T200000
DTSTAMP:20260423T191808
CREATED:20250328T203450Z
LAST-MODIFIED:20250410T212301Z
UID:10000178-1779474600-1779480000@explorecolfaxwa.com
SUMMARY:Dinner @ The Eagles
DESCRIPTION:Join us every Friday night from 6:30-8:00 pm at the Eagles Club in Colfax for a delicious dinner with a rotating menu each week. Everyone is welcome to attend and enjoy a great meal in a friendly atmosphere. Be sure to check our Facebook page for the weekly menu updates! \n217 N Main St #1816\, Colfax\, WA 99111 \nFraternal Order of Eagles #2317
URL:https://explorecolfaxwa.com/event/dinner-the-eagles/2026-05-22/
LOCATION:Fraternal Order of Eagles\, 217 N MAIN St\, Colfax\, WA\, 99111\, United States
END:VEVENT
BEGIN:VEVENT
DTSTART;TZID=UTC:20260524T153000
DTEND;TZID=UTC:20260524T170000
DTSTAMP:20260423T191808
CREATED:20260101T033056Z
LAST-MODIFIED:20260217T220833Z
UID:10000513-1779636600-1779642000@explorecolfaxwa.com
SUMMARY:Community Grief Support Groups
DESCRIPTION:Gather with others in a confidential\, small\, and supportive setting. With care\, compassion\, and helpful resources\, we gently explore the journey through grief together. Pick the group that best supports your needs. \nPullman: Sundays 3:30pm – 5:00pm.\nFebruary 22 – March 29. \nColfax: Sundays 3:30pm – 5:00pm.\nApril 19th – May 31. \nPreregister by calling (509) 332-4414 or contacting director@friendsofhospice.net.
URL:https://explorecolfaxwa.com/event/community-grief-support-groups-12/
END:VEVENT
BEGIN:VEVENT
DTSTART;TZID=UTC:20260528T180000
DTEND;TZID=UTC:20260528T193000
DTSTAMP:20260423T191808
CREATED:20260101T033509Z
LAST-MODIFIED:20260423T185558Z
UID:10000529-1779991200-1779996600@explorecolfaxwa.com
SUMMARY:Candidate Forum
DESCRIPTION:Your Vote Decides Colfax’s Future. \nPlease join us for a Candidate Forum on May 28th! \nBrought to you by the Colfax Chamber of Commerce. Moderated by Colfax City Counsil member Blaine Golden. \nWhitman County: Candidates for local elections are invited to participate. \nMeet the candidates & make an informed decision in the primary election taking place – August 4th!
URL:https://explorecolfaxwa.com/event/candidate-forum/
LOCATION:The Center\, 110 S Main St\, Colfax\, WA\, 99111\, United States
ORGANIZER;CN="Colfax Chamber of Commerce":MAILTO:colfaxchamber@gmail.com
END:VEVENT
BEGIN:VEVENT
DTSTART;TZID=UTC:20260529T183000
DTEND;TZID=UTC:20260529T200000
DTSTAMP:20260423T191808
CREATED:20250328T203450Z
LAST-MODIFIED:20250410T212301Z
UID:10000179-1780079400-1780084800@explorecolfaxwa.com
SUMMARY:Dinner @ The Eagles
DESCRIPTION:Join us every Friday night from 6:30-8:00 pm at the Eagles Club in Colfax for a delicious dinner with a rotating menu each week. Everyone is welcome to attend and enjoy a great meal in a friendly atmosphere. Be sure to check our Facebook page for the weekly menu updates! \n217 N Main St #1816\, Colfax\, WA 99111 \nFraternal Order of Eagles #2317
URL:https://explorecolfaxwa.com/event/dinner-the-eagles/2026-05-29/
LOCATION:Fraternal Order of Eagles\, 217 N MAIN St\, Colfax\, WA\, 99111\, United States
END:VEVENT
BEGIN:VEVENT
DTSTART;TZID=UTC:20260531T153000
DTEND;TZID=UTC:20260531T170000
DTSTAMP:20260423T191808
CREATED:20260101T034016Z
LAST-MODIFIED:20260217T220739Z
UID:10000514-1780241400-1780246800@explorecolfaxwa.com
SUMMARY:Community Grief Support Groups
DESCRIPTION:Gather with others in a confidential\, small\, and supportive setting. With care\, compassion\, and helpful resources\, we gently explore the journey through grief together. Pick the group that best supports your needs. \nPullman: Sundays 3:30pm – 5:00pm.\nFebruary 22 – March 29. \nColfax: Sundays 3:30pm – 5:00pm.\nApril 19th – May 31. \nPreregister by calling (509) 332-4414 or contacting director@friendsofhospice.net.
URL:https://explorecolfaxwa.com/event/community-grief-support-groups-13/
END:VEVENT
BEGIN:VEVENT
DTSTART;TZID=UTC:20260605T183000
DTEND;TZID=UTC:20260605T200000
DTSTAMP:20260423T191808
CREATED:20250328T203450Z
LAST-MODIFIED:20250410T212301Z
UID:10000180-1780684200-1780689600@explorecolfaxwa.com
SUMMARY:Dinner @ The Eagles
DESCRIPTION:Join us every Friday night from 6:30-8:00 pm at the Eagles Club in Colfax for a delicious dinner with a rotating menu each week. Everyone is welcome to attend and enjoy a great meal in a friendly atmosphere. Be sure to check our Facebook page for the weekly menu updates! \n217 N Main St #1816\, Colfax\, WA 99111 \nFraternal Order of Eagles #2317
URL:https://explorecolfaxwa.com/event/dinner-the-eagles/2026-06-05/
LOCATION:Fraternal Order of Eagles\, 217 N MAIN St\, Colfax\, WA\, 99111\, United States
END:VEVENT
BEGIN:VEVENT
DTSTART;VALUE=DATE:20260609
DTEND;VALUE=DATE:20260612
DTSTAMP:20260423T191808
CREATED:20260416T185029Z
LAST-MODIFIED:20260416T185029Z
UID:10000526-1780963200-1781222399@explorecolfaxwa.com
SUMMARY:BOLT Adventure Camp
DESCRIPTION:PLEASE JOIN US FOR BOLT Adventure Camp\nfor kids just completing K-6th Grade – It’s Free! \nWHAT TO BRING: Sack lunch & Bible \nREGISTER AT ONECHO.ORG \nWe’re going learn what it means to listen to\, focus on\, and follow Jesus. \nBONUS: Family Night June 25th with BBQ & Eric E Concert at Schmuck Park \nQuestions? Call Helena at 509-288-2230 \nSponsored by Onecho Bible Church
URL:https://explorecolfaxwa.com/event/bolt-adventure-camp/
LOCATION:Jennings Elementary School\, 1207 N Morton St\, Colfax\, WA\, 99163\, United States
ORGANIZER;CN="Onecho Bible Church":MAILTO:5092282230
END:VEVENT
BEGIN:VEVENT
DTSTART;TZID=UTC:20260612T183000
DTEND;TZID=UTC:20260612T200000
DTSTAMP:20260423T191808
CREATED:20250328T203450Z
LAST-MODIFIED:20250410T212301Z
UID:10000181-1781289000-1781294400@explorecolfaxwa.com
SUMMARY:Dinner @ The Eagles
DESCRIPTION:Join us every Friday night from 6:30-8:00 pm at the Eagles Club in Colfax for a delicious dinner with a rotating menu each week. Everyone is welcome to attend and enjoy a great meal in a friendly atmosphere. Be sure to check our Facebook page for the weekly menu updates! \n217 N Main St #1816\, Colfax\, WA 99111 \nFraternal Order of Eagles #2317
URL:https://explorecolfaxwa.com/event/dinner-the-eagles/2026-06-12/
LOCATION:Fraternal Order of Eagles\, 217 N MAIN St\, Colfax\, WA\, 99111\, United States
END:VEVENT
BEGIN:VEVENT
DTSTART;TZID=UTC:20260619T183000
DTEND;TZID=UTC:20260619T200000
DTSTAMP:20260423T191808
CREATED:20250328T203450Z
LAST-MODIFIED:20250410T212301Z
UID:10000182-1781893800-1781899200@explorecolfaxwa.com
SUMMARY:Dinner @ The Eagles
DESCRIPTION:Join us every Friday night from 6:30-8:00 pm at the Eagles Club in Colfax for a delicious dinner with a rotating menu each week. Everyone is welcome to attend and enjoy a great meal in a friendly atmosphere. Be sure to check our Facebook page for the weekly menu updates! \n217 N Main St #1816\, Colfax\, WA 99111 \nFraternal Order of Eagles #2317
URL:https://explorecolfaxwa.com/event/dinner-the-eagles/2026-06-19/
LOCATION:Fraternal Order of Eagles\, 217 N MAIN St\, Colfax\, WA\, 99111\, United States
END:VEVENT
BEGIN:VEVENT
DTSTART;TZID=UTC:20260626T183000
DTEND;TZID=UTC:20260626T200000
DTSTAMP:20260423T191808
CREATED:20250328T203450Z
LAST-MODIFIED:20250410T212301Z
UID:10000183-1782498600-1782504000@explorecolfaxwa.com
SUMMARY:Dinner @ The Eagles
DESCRIPTION:Join us every Friday night from 6:30-8:00 pm at the Eagles Club in Colfax for a delicious dinner with a rotating menu each week. Everyone is welcome to attend and enjoy a great meal in a friendly atmosphere. Be sure to check our Facebook page for the weekly menu updates! \n217 N Main St #1816\, Colfax\, WA 99111 \nFraternal Order of Eagles #2317
URL:https://explorecolfaxwa.com/event/dinner-the-eagles/2026-06-26/
LOCATION:Fraternal Order of Eagles\, 217 N MAIN St\, Colfax\, WA\, 99111\, United States
END:VEVENT
BEGIN:VEVENT
DTSTART;TZID=UTC:20260703T183000
DTEND;TZID=UTC:20260703T200000
DTSTAMP:20260423T191808
CREATED:20250328T203450Z
LAST-MODIFIED:20250410T212301Z
UID:10000184-1783103400-1783108800@explorecolfaxwa.com
SUMMARY:Dinner @ The Eagles
DESCRIPTION:Join us every Friday night from 6:30-8:00 pm at the Eagles Club in Colfax for a delicious dinner with a rotating menu each week. Everyone is welcome to attend and enjoy a great meal in a friendly atmosphere. Be sure to check our Facebook page for the weekly menu updates! \n217 N Main St #1816\, Colfax\, WA 99111 \nFraternal Order of Eagles #2317
URL:https://explorecolfaxwa.com/event/dinner-the-eagles/2026-07-03/
LOCATION:Fraternal Order of Eagles\, 217 N MAIN St\, Colfax\, WA\, 99111\, United States
END:VEVENT
BEGIN:VEVENT
DTSTART;TZID=UTC:20260710T183000
DTEND;TZID=UTC:20260710T200000
DTSTAMP:20260423T191808
CREATED:20250328T203450Z
LAST-MODIFIED:20250410T212301Z
UID:10000185-1783708200-1783713600@explorecolfaxwa.com
SUMMARY:Dinner @ The Eagles
DESCRIPTION:Join us every Friday night from 6:30-8:00 pm at the Eagles Club in Colfax for a delicious dinner with a rotating menu each week. Everyone is welcome to attend and enjoy a great meal in a friendly atmosphere. Be sure to check our Facebook page for the weekly menu updates! \n217 N Main St #1816\, Colfax\, WA 99111 \nFraternal Order of Eagles #2317
URL:https://explorecolfaxwa.com/event/dinner-the-eagles/2026-07-10/
LOCATION:Fraternal Order of Eagles\, 217 N MAIN St\, Colfax\, WA\, 99111\, United States
END:VEVENT
BEGIN:VEVENT
DTSTART;TZID=UTC:20260717T183000
DTEND;TZID=UTC:20260717T200000
DTSTAMP:20260423T191808
CREATED:20250328T203450Z
LAST-MODIFIED:20250410T212301Z
UID:10000186-1784313000-1784318400@explorecolfaxwa.com
SUMMARY:Dinner @ The Eagles
DESCRIPTION:Join us every Friday night from 6:30-8:00 pm at the Eagles Club in Colfax for a delicious dinner with a rotating menu each week. Everyone is welcome to attend and enjoy a great meal in a friendly atmosphere. Be sure to check our Facebook page for the weekly menu updates! \n217 N Main St #1816\, Colfax\, WA 99111 \nFraternal Order of Eagles #2317
URL:https://explorecolfaxwa.com/event/dinner-the-eagles/2026-07-17/
LOCATION:Fraternal Order of Eagles\, 217 N MAIN St\, Colfax\, WA\, 99111\, United States
END:VEVENT
BEGIN:VEVENT
DTSTART;TZID=UTC:20260724T183000
DTEND;TZID=UTC:20260724T200000
DTSTAMP:20260423T191808
CREATED:20250328T203450Z
LAST-MODIFIED:20250410T212301Z
UID:10000187-1784917800-1784923200@explorecolfaxwa.com
SUMMARY:Dinner @ The Eagles
DESCRIPTION:Join us every Friday night from 6:30-8:00 pm at the Eagles Club in Colfax for a delicious dinner with a rotating menu each week. Everyone is welcome to attend and enjoy a great meal in a friendly atmosphere. Be sure to check our Facebook page for the weekly menu updates! \n217 N Main St #1816\, Colfax\, WA 99111 \nFraternal Order of Eagles #2317
URL:https://explorecolfaxwa.com/event/dinner-the-eagles/2026-07-24/
LOCATION:Fraternal Order of Eagles\, 217 N MAIN St\, Colfax\, WA\, 99111\, United States
END:VEVENT
BEGIN:VEVENT
DTSTART;TZID=UTC:20260731T183000
DTEND;TZID=UTC:20260731T200000
DTSTAMP:20260423T191808
CREATED:20250328T203450Z
LAST-MODIFIED:20250410T212301Z
UID:10000188-1785522600-1785528000@explorecolfaxwa.com
SUMMARY:Dinner @ The Eagles
DESCRIPTION:Join us every Friday night from 6:30-8:00 pm at the Eagles Club in Colfax for a delicious dinner with a rotating menu each week. Everyone is welcome to attend and enjoy a great meal in a friendly atmosphere. Be sure to check our Facebook page for the weekly menu updates! \n217 N Main St #1816\, Colfax\, WA 99111 \nFraternal Order of Eagles #2317
URL:https://explorecolfaxwa.com/event/dinner-the-eagles/2026-07-31/
LOCATION:Fraternal Order of Eagles\, 217 N MAIN St\, Colfax\, WA\, 99111\, United States
END:VEVENT
BEGIN:VEVENT
DTSTART;TZID=UTC:20260807T183000
DTEND;TZID=UTC:20260807T200000
DTSTAMP:20260423T191808
CREATED:20250328T203450Z
LAST-MODIFIED:20250410T212301Z
UID:10000189-1786127400-1786132800@explorecolfaxwa.com
SUMMARY:Dinner @ The Eagles
DESCRIPTION:Join us every Friday night from 6:30-8:00 pm at the Eagles Club in Colfax for a delicious dinner with a rotating menu each week. Everyone is welcome to attend and enjoy a great meal in a friendly atmosphere. Be sure to check our Facebook page for the weekly menu updates! \n217 N Main St #1816\, Colfax\, WA 99111 \nFraternal Order of Eagles #2317
URL:https://explorecolfaxwa.com/event/dinner-the-eagles/2026-08-07/
LOCATION:Fraternal Order of Eagles\, 217 N MAIN St\, Colfax\, WA\, 99111\, United States
END:VEVENT
BEGIN:VEVENT
DTSTART;TZID=UTC:20260814T183000
DTEND;TZID=UTC:20260814T200000
DTSTAMP:20260423T191808
CREATED:20250328T203450Z
LAST-MODIFIED:20250410T212301Z
UID:10000190-1786732200-1786737600@explorecolfaxwa.com
SUMMARY:Dinner @ The Eagles
DESCRIPTION:Join us every Friday night from 6:30-8:00 pm at the Eagles Club in Colfax for a delicious dinner with a rotating menu each week. Everyone is welcome to attend and enjoy a great meal in a friendly atmosphere. Be sure to check our Facebook page for the weekly menu updates! \n217 N Main St #1816\, Colfax\, WA 99111 \nFraternal Order of Eagles #2317
URL:https://explorecolfaxwa.com/event/dinner-the-eagles/2026-08-14/
LOCATION:Fraternal Order of Eagles\, 217 N MAIN St\, Colfax\, WA\, 99111\, United States
END:VEVENT
BEGIN:VEVENT
DTSTART;TZID=UTC:20260821T183000
DTEND;TZID=UTC:20260821T200000
DTSTAMP:20260423T191808
CREATED:20250328T203450Z
LAST-MODIFIED:20250410T212301Z
UID:10000191-1787337000-1787342400@explorecolfaxwa.com
SUMMARY:Dinner @ The Eagles
DESCRIPTION:Join us every Friday night from 6:30-8:00 pm at the Eagles Club in Colfax for a delicious dinner with a rotating menu each week. Everyone is welcome to attend and enjoy a great meal in a friendly atmosphere. Be sure to check our Facebook page for the weekly menu updates! \n217 N Main St #1816\, Colfax\, WA 99111 \nFraternal Order of Eagles #2317
URL:https://explorecolfaxwa.com/event/dinner-the-eagles/2026-08-21/
LOCATION:Fraternal Order of Eagles\, 217 N MAIN St\, Colfax\, WA\, 99111\, United States
END:VEVENT
BEGIN:VEVENT
DTSTART;TZID=UTC:20260828T183000
DTEND;TZID=UTC:20260828T200000
DTSTAMP:20260423T191808
CREATED:20250328T203450Z
LAST-MODIFIED:20250410T212301Z
UID:10000192-1787941800-1787947200@explorecolfaxwa.com
SUMMARY:Dinner @ The Eagles
DESCRIPTION:Join us every Friday night from 6:30-8:00 pm at the Eagles Club in Colfax for a delicious dinner with a rotating menu each week. Everyone is welcome to attend and enjoy a great meal in a friendly atmosphere. Be sure to check our Facebook page for the weekly menu updates! \n217 N Main St #1816\, Colfax\, WA 99111 \nFraternal Order of Eagles #2317
URL:https://explorecolfaxwa.com/event/dinner-the-eagles/2026-08-28/
LOCATION:Fraternal Order of Eagles\, 217 N MAIN St\, Colfax\, WA\, 99111\, United States
END:VEVENT
END:VCALENDAR