BEGIN:VCALENDAR
VERSION:2.0
PRODID:-//Colfax Chamber of Commerce - ECPv6.15.20//NONSGML v1.0//EN
CALSCALE:GREGORIAN
METHOD:PUBLISH
X-ORIGINAL-URL:https://explorecolfaxwa.com
X-WR-CALDESC:Events for Colfax Chamber of Commerce
REFRESH-INTERVAL;VALUE=DURATION:PT1H
X-Robots-Tag:noindex
X-PUBLISHED-TTL:PT1H
BEGIN:VTIMEZONE
TZID:UTC
BEGIN:STANDARD
TZOFFSETFROM:+0000
TZOFFSETTO:+0000
TZNAME:UTC
DTSTART:20250101T000000
END:STANDARD
END:VTIMEZONE
BEGIN:VEVENT
DTSTART;TZID=UTC:20260618T160000
DTEND;TZID=UTC:20260618T190000
DTSTAMP:20260424T162803
CREATED:20260423T192528Z
LAST-MODIFIED:20260423T192528Z
UID:10000534-1781798400-1781809200@explorecolfaxwa.com
SUMMARY:Colfax Farmers Market
DESCRIPTION:
URL:https://explorecolfaxwa.com/event/colfax-farmers-market-11/
LOCATION:Colfax Wa 99111\, Colfax\, WA\, 99111\, United States
END:VEVENT
BEGIN:VEVENT
DTSTART;TZID=UTC:20260618T160000
DTEND;TZID=UTC:20260618T190000
DTSTAMP:20260424T162803
CREATED:20260423T192659Z
LAST-MODIFIED:20260423T192659Z
UID:10000535-1781798400-1781809200@explorecolfaxwa.com
SUMMARY:Colfax Farmers Market
DESCRIPTION:
URL:https://explorecolfaxwa.com/event/colfax-farmers-market-12/
LOCATION:Colfax Wa 99111\, Colfax\, WA\, 99111\, United States
END:VEVENT
END:VCALENDAR