BEGIN:VCALENDAR
VERSION:2.0
PRODID:-//Colfax Chamber of Commerce - ECPv6.15.20//NONSGML v1.0//EN
CALSCALE:GREGORIAN
METHOD:PUBLISH
X-WR-CALNAME:Colfax Chamber of Commerce
X-ORIGINAL-URL:https://explorecolfaxwa.com
X-WR-CALDESC:Events for Colfax Chamber of Commerce
REFRESH-INTERVAL;VALUE=DURATION:PT1H
X-Robots-Tag:noindex
X-PUBLISHED-TTL:PT1H
BEGIN:VTIMEZONE
TZID:UTC
BEGIN:STANDARD
TZOFFSETFROM:+0000
TZOFFSETTO:+0000
TZNAME:UTC
DTSTART:20250101T000000
END:STANDARD
END:VTIMEZONE
BEGIN:VEVENT
DTSTART;TZID=UTC:20260425T100000
DTEND;TZID=UTC:20260425T140000
DTSTAMP:20260425T013912
CREATED:20260101T023534Z
LAST-MODIFIED:20260423T184145Z
UID:10000527-1777111200-1777125600@explorecolfaxwa.com
SUMMARY:Spring Cleaning Time
DESCRIPTION:Bring your old medications to Colfax Rosauers for safe disposal. Pick up a free lock box or locking bag.
URL:https://explorecolfaxwa.com/event/spring-cleaning-time/
LOCATION:Rosaurs\, 632 N Main St\, Colfax\, WA\, 99111\, United States
END:VEVENT
END:VCALENDAR