BEGIN:VCALENDAR
VERSION:2.0
PRODID:-//Colfax Chamber of Commerce - ECPv6.15.20//NONSGML v1.0//EN
CALSCALE:GREGORIAN
METHOD:PUBLISH
X-ORIGINAL-URL:https://explorecolfaxwa.com
X-WR-CALDESC:Events for Colfax Chamber of Commerce
REFRESH-INTERVAL;VALUE=DURATION:PT1H
X-Robots-Tag:noindex
X-PUBLISHED-TTL:PT1H
BEGIN:VTIMEZONE
TZID:UTC
BEGIN:STANDARD
TZOFFSETFROM:+0000
TZOFFSETTO:+0000
TZNAME:UTC
DTSTART:20250101T000000
END:STANDARD
END:VTIMEZONE
BEGIN:VEVENT
DTSTART;TZID=UTC:20260304T100000
DTEND;TZID=UTC:20260306T140000
DTSTAMP:20260423T164428
CREATED:20260101T010030Z
LAST-MODIFIED:20260312T210903Z
UID:10000499-1772618400-1772805600@explorecolfaxwa.com
SUMMARY:Let's Paint!
DESCRIPTION:Hey\, Colfax… let’s paint! \nSpring is on its way\, and we’re getting ready to brighten up downtown again! Join us March 4th–6th from 10am–2pm as we paint spring flowers and festive\, St. Patrick’s Day–inspired windows around town. \nLove seeing the art pop up on Main Street? This is your chance to be part of it. Grab a friend\, paint a window (or two)\, and help us bring a little extra color and life to our downtown. \n☘️ Supplies are provided.\n☘️ All skill levels are welcome.\n☘️ Come when you can during those hours. \nThese seasonal projects are about more than paint — they’re about community pride\, supporting our local businesses\, creating a welcoming atmosphere for visitors\, and spending time together in a way that makes Colfax feel special. \nFor more info call (509) 610-9028
URL:https://explorecolfaxwa.com/event/lets-paint/
LOCATION:WA
ORGANIZER;CN="Colfax Chamber of Commerce":MAILTO:colfaxchamber@gmail.com
END:VEVENT
BEGIN:VEVENT
DTSTART;TZID=UTC:20260306T183000
DTEND;TZID=UTC:20260306T200000
DTSTAMP:20260423T164428
CREATED:20250328T203450Z
LAST-MODIFIED:20250410T212301Z
UID:10000167-1772821800-1772827200@explorecolfaxwa.com
SUMMARY:Dinner @ The Eagles
DESCRIPTION:Join us every Friday night from 6:30-8:00 pm at the Eagles Club in Colfax for a delicious dinner with a rotating menu each week. Everyone is welcome to attend and enjoy a great meal in a friendly atmosphere. Be sure to check our Facebook page for the weekly menu updates! \n217 N Main St #1816\, Colfax\, WA 99111 \nFraternal Order of Eagles #2317
URL:https://explorecolfaxwa.com/event/dinner-the-eagles/2026-03-06/
LOCATION:Fraternal Order of Eagles\, 217 N MAIN St\, Colfax\, WA\, 99111\, United States
END:VEVENT
END:VCALENDAR