BEGIN:VCALENDAR
VERSION:2.0
PRODID:-//Colfax Chamber of Commerce - ECPv6.15.20//NONSGML v1.0//EN
CALSCALE:GREGORIAN
METHOD:PUBLISH
X-ORIGINAL-URL:https://explorecolfaxwa.com
X-WR-CALDESC:Events for Colfax Chamber of Commerce
REFRESH-INTERVAL;VALUE=DURATION:PT1H
X-Robots-Tag:noindex
X-PUBLISHED-TTL:PT1H
BEGIN:VTIMEZONE
TZID:UTC
BEGIN:STANDARD
TZOFFSETFROM:+0000
TZOFFSETTO:+0000
TZNAME:UTC
DTSTART:20250101T000000
END:STANDARD
END:VTIMEZONE
BEGIN:VEVENT
DTSTART;TZID=UTC:20260301T110000
DTEND;TZID=UTC:20260301T140000
DTSTAMP:20260423T222709
CREATED:20260101T004029Z
LAST-MODIFIED:20260312T210904Z
UID:10000519-1772362800-1772373600@explorecolfaxwa.com
SUMMARY:Brunch at The Cellar
DESCRIPTION:Sundays: 11am-2pm. \nAny beverage from our regular menu. \n\nYogurt\, fruit & granola\nVegetarian specials\nWaffles\nBacon & Egg Strata\nBiscuits & Gravy\nMimosas & Coffee\n\nMake The Cellar part of your winter tradition. Our Sunday Brunch brings comforting flavors\, friendly faces\, and a warm place to gather during the cold months.
URL:https://explorecolfaxwa.com/event/brunch-at-the-cellar-5/
LOCATION:The Cellar\, 203 N Main St\, Colfax\, WA\, 99111\, United States
END:VEVENT
BEGIN:VEVENT
DTSTART;TZID=UTC:20260301T153000
DTEND;TZID=UTC:20260301T170000
DTSTAMP:20260423T222709
CREATED:20260101T005015Z
LAST-MODIFIED:20260312T210904Z
UID:10000503-1772379000-1772384400@explorecolfaxwa.com
SUMMARY:Community Grief Support Groups
DESCRIPTION:Gather with others in a confidential\, small\, and supportive setting. With care\, compassion\, and helpful resources\, we gently explore the journey through grief together. Pick the group that best supports your needs. \nPullman: Sundays 3:30pm – 5:00pm.\nFebruary 22 – March 29. \nColfax: Sundays 3:30pm – 5:00pm.\nApril 19th – May 31. \nPreregister by calling (509) 332-4414 or contacting director@friendsofhospice.net.
URL:https://explorecolfaxwa.com/event/community-grief-support-groups-2/
LOCATION:WA
END:VEVENT
END:VCALENDAR