BEGIN:VCALENDAR
VERSION:2.0
PRODID:-//Colfax Chamber of Commerce - ECPv6.15.20//NONSGML v1.0//EN
CALSCALE:GREGORIAN
METHOD:PUBLISH
X-WR-CALNAME:Colfax Chamber of Commerce
X-ORIGINAL-URL:https://explorecolfaxwa.com
X-WR-CALDESC:Events for Colfax Chamber of Commerce
REFRESH-INTERVAL;VALUE=DURATION:PT1H
X-Robots-Tag:noindex
X-PUBLISHED-TTL:PT1H
BEGIN:VTIMEZONE
TZID:UTC
BEGIN:STANDARD
TZOFFSETFROM:+0000
TZOFFSETTO:+0000
TZNAME:UTC
DTSTART:20250101T000000
END:STANDARD
END:VTIMEZONE
BEGIN:VEVENT
DTSTART;TZID=UTC:20260117T193000
DTEND;TZID=UTC:20260117T193000
DTSTAMP:20260421T102229
CREATED:20260112T203534Z
LAST-MODIFIED:20260120T164342Z
UID:10000495-1768678200-1768678200@explorecolfaxwa.com
SUMMARY:FOE: Cornhole Night
DESCRIPTION:Player signup starts at 7pm. Tournament game play starts at 8pm. \n$5 buy in\, winners take all. \nLottery draw partners
URL:https://explorecolfaxwa.com/event/foe-cornhole-night/
LOCATION:Fraternal Order of Eagles\, 217 N MAIN St\, Colfax\, WA\, 99111\, United States
END:VEVENT
END:VCALENDAR