BEGIN:VCALENDAR
VERSION:2.0
PRODID:-//Colfax Chamber of Commerce - ECPv6.15.20//NONSGML v1.0//EN
CALSCALE:GREGORIAN
METHOD:PUBLISH
X-ORIGINAL-URL:https://explorecolfaxwa.com
X-WR-CALDESC:Events for Colfax Chamber of Commerce
REFRESH-INTERVAL;VALUE=DURATION:PT1H
X-Robots-Tag:noindex
X-PUBLISHED-TTL:PT1H
BEGIN:VTIMEZONE
TZID:UTC
BEGIN:STANDARD
TZOFFSETFROM:+0000
TZOFFSETTO:+0000
TZNAME:UTC
DTSTART:20240101T000000
END:STANDARD
END:VTIMEZONE
BEGIN:VEVENT
DTSTART;TZID=UTC:20251128T170000
DTEND;TZID=UTC:20251128T170000
DTSTAMP:20260422T231815
CREATED:20251106T234036Z
LAST-MODIFIED:20251201T173221Z
UID:10000483-1764349200-1764349200@explorecolfaxwa.com
SUMMARY:FOE | Burgers & Fries\, Joker Poker\, Karaoke
DESCRIPTION:Burgers & Fries @ 5pm | Joker Poker @ 7-8pm | Karaoke @ 8:30pm
URL:https://explorecolfaxwa.com/event/foe-burgers-fries-joker-poker-karaoke/
LOCATION:Fraternal Order of Eagles\, 217 N MAIN St\, Colfax\, WA\, 99111\, United States
END:VEVENT
BEGIN:VEVENT
DTSTART;TZID=UTC:20251128T183000
DTEND;TZID=UTC:20251128T200000
DTSTAMP:20260422T231815
CREATED:20250328T203450Z
LAST-MODIFIED:20250410T212301Z
UID:10000153-1764354600-1764360000@explorecolfaxwa.com
SUMMARY:Dinner @ The Eagles
DESCRIPTION:Join us every Friday night from 6:30-8:00 pm at the Eagles Club in Colfax for a delicious dinner with a rotating menu each week. Everyone is welcome to attend and enjoy a great meal in a friendly atmosphere. Be sure to check our Facebook page for the weekly menu updates! \n217 N Main St #1816\, Colfax\, WA 99111 \nFraternal Order of Eagles #2317
URL:https://explorecolfaxwa.com/event/dinner-the-eagles/2025-11-28/
LOCATION:Fraternal Order of Eagles\, 217 N MAIN St\, Colfax\, WA\, 99111\, United States
END:VEVENT
END:VCALENDAR