BEGIN:VCALENDAR
VERSION:2.0
PRODID:-//Colfax Chamber of Commerce - ECPv6.15.20//NONSGML v1.0//EN
CALSCALE:GREGORIAN
METHOD:PUBLISH
X-WR-CALNAME:Colfax Chamber of Commerce
X-ORIGINAL-URL:https://explorecolfaxwa.com
X-WR-CALDESC:Events for Colfax Chamber of Commerce
REFRESH-INTERVAL;VALUE=DURATION:PT1H
X-Robots-Tag:noindex
X-PUBLISHED-TTL:PT1H
BEGIN:VTIMEZONE
TZID:UTC
BEGIN:STANDARD
TZOFFSETFROM:+0000
TZOFFSETTO:+0000
TZNAME:UTC
DTSTART:20240101T000000
END:STANDARD
END:VTIMEZONE
BEGIN:VEVENT
DTSTART;TZID=UTC:20250510T063000
DTEND;TZID=UTC:20250510T103000
DTSTAMP:20260422T114441
CREATED:20250407T213040Z
LAST-MODIFIED:20250512T170011Z
UID:10000395-1746858600-1746873000@explorecolfaxwa.com
SUMMARY:Annual Colfax Little League Breakfast
DESCRIPTION:Enjoy an all-you-can-eat breakfast featuring ham\, eggs\, pancakes\, and beverages.\nTickets: Available from any Little Leaguer or at the door. \nAll ticket sale proceeds go toward the maintenance of our Little League field\, ensuring it remains a staple for the kids in our community and surrounding areas for generations to come. \nDate: Saturday\, May 10\, 2025\nTime: 6:30 AM – 10:30 AM\nLocation: Colfax High School Cafeteria
URL:https://explorecolfaxwa.com/event/annual-colfax-little-league-breakfast/
LOCATION:Colfax High School\, 1110 N Morton St\, Colfax\, WA\, 99111\, United States
ATTACH;FMTTYPE=image/jpeg:https://explorecolfaxwa.com/wp-content/uploads/2025/02/Colfax-School-District.jpg
END:VEVENT
BEGIN:VEVENT
DTSTART;TZID=UTC:20250510T140000
DTEND;TZID=UTC:20250510T163000
DTSTAMP:20260422T114441
CREATED:20250407T214019Z
LAST-MODIFIED:20250512T165940Z
UID:10000394-1746885600-1746894600@explorecolfaxwa.com
SUMMARY:Spring Tea & Silent Auction
DESCRIPTION:The Friends of the Whitman County Library present: The 3rd Annual Spring Tea and Silent Auction \nDecorate your table with your very own tea sets and fancy dinnerware for this memorable event\, featuring a 4-course afternoon tea menu and specialty teas. A complimentary print photo of your group will be provided\, princess dresses and fancy hats are encouraged. \n$35 per person \n$225 per table (seats up to 8) \nMay 10th @ 2:00PM at the Center \nRSVP by April 30th\, Limited Space Available \nPick up your registration form at your local WCL branch or call (509) 397-4366
URL:https://explorecolfaxwa.com/event/spring-tea-silent-auction/
LOCATION:The Center\, 110 S Main St\, Colfax\, WA\, 99111\, United States
END:VEVENT
END:VCALENDAR