BEGIN:VCALENDAR
VERSION:2.0
PRODID:-//Colfax Chamber of Commerce - ECPv6.15.20//NONSGML v1.0//EN
CALSCALE:GREGORIAN
METHOD:PUBLISH
X-ORIGINAL-URL:https://explorecolfaxwa.com
X-WR-CALDESC:Events for Colfax Chamber of Commerce
REFRESH-INTERVAL;VALUE=DURATION:PT1H
X-Robots-Tag:noindex
X-PUBLISHED-TTL:PT1H
BEGIN:VTIMEZONE
TZID:UTC
BEGIN:STANDARD
TZOFFSETFROM:+0000
TZOFFSETTO:+0000
TZNAME:UTC
DTSTART:20240101T000000
END:STANDARD
END:VTIMEZONE
BEGIN:VEVENT
DTSTART;TZID=UTC:20250507T171500
DTEND;TZID=UTC:20250507T190000
DTSTAMP:20260422T183703
CREATED:20250501T190703Z
LAST-MODIFIED:20250509T211307Z
UID:10000419-1746638100-1746644400@explorecolfaxwa.com
SUMMARY:Emote - Colfax Book Club
DESCRIPTION:Emote – Colfax Book Club for self-development and personal growth. \nJoin us May 7th @ 5:15pm at Wild Ember Kitchen to discuss the Let Them Theory by Mel Robbins
URL:https://explorecolfaxwa.com/event/emote-colfax-book-club/
LOCATION:Wild Ember Kitchen\, 102 N Main St\, Colfax\, WA\, 99111\, United States
END:VEVENT
END:VCALENDAR