BEGIN:VCALENDAR
VERSION:2.0
PRODID:-//Colfax Chamber of Commerce - ECPv6.15.20//NONSGML v1.0//EN
CALSCALE:GREGORIAN
METHOD:PUBLISH
X-WR-CALNAME:Colfax Chamber of Commerce
X-ORIGINAL-URL:https://explorecolfaxwa.com
X-WR-CALDESC:Events for Colfax Chamber of Commerce
REFRESH-INTERVAL;VALUE=DURATION:PT1H
X-Robots-Tag:noindex
X-PUBLISHED-TTL:PT1H
BEGIN:VTIMEZONE
TZID:UTC
BEGIN:STANDARD
TZOFFSETFROM:+0000
TZOFFSETTO:+0000
TZNAME:UTC
DTSTART:20240101T000000
END:STANDARD
END:VTIMEZONE
BEGIN:VEVENT
DTSTART;TZID=UTC:20250506T130000
DTEND;TZID=UTC:20250506T150000
DTSTAMP:20260422T113901
CREATED:20250407T212055Z
LAST-MODIFIED:20250509T211247Z
UID:10000056-1746536400-1746543600@explorecolfaxwa.com
SUMMARY:Shred Day
DESCRIPTION:We are excited to share that Shred Day is officially happening! Thanks to the generosity of Rosauers\, we will be hosting this community event in their parking lot\, and we have reserved United Data Security to provide on-site mobile shredding services. \nShred Day is not only a valuable service that allows residents and businesses to securely dispose of sensitive documents\, but it is also a fundraiser for the Colfax Chamber of Commerce. The proceeds will support Chamber initiatives that strengthen and promote local businesses and community events. \nSuggested Donations: $5 for individuals | $25 for businesses
URL:https://explorecolfaxwa.com/event/shred-day/
LOCATION:Rosaurs\, 632 N Main St\, Colfax\, WA\, 99111\, United States
ATTACH;FMTTYPE=image/png:https://explorecolfaxwa.com/wp-content/uploads/2024/03/cropped-Vector.png
ORGANIZER;CN="Colfax Chamber of Commerce":MAILTO:colfaxchamber@gmail.com
END:VEVENT
BEGIN:VEVENT
DTSTART;TZID=UTC:20250506T180000
DTEND;TZID=UTC:20250506T200000
DTSTAMP:20260422T113901
CREATED:20250501T180908Z
LAST-MODIFIED:20250509T211255Z
UID:10000415-1746554400-1746561600@explorecolfaxwa.com
SUMMARY:Summerfest Planning Meeting
DESCRIPTION:Summerfest Planning Meeting – May 6th at 6 PM\nWe need YOU to help make Summerfest happen! If you care about Colfax and want to see it thrive\, come to our planning meeting at Wild Ember Kitchen on May 6th at 6:00 PM. \nThis event won’t come together without people who are ready to roll up their sleeves and bring their ideas\, talents\, and passion. Whether you can help with organizing\, volunteering\, or sharing what your business or group has planned\, we need all hands on deck to make Summerfest a success. \nSmall bites will be provided\, and drinks will be available for purchase. Join us and be a part of something great for Colfax!
URL:https://explorecolfaxwa.com/event/summerfest-planning-meeting/
LOCATION:Wild Ember Kitchen\, 102 N Main St\, Colfax\, WA\, 99111\, United States
ORGANIZER;CN="Colfax Chamber of Commerce":MAILTO:colfaxchamber@gmail.com
END:VEVENT
END:VCALENDAR