BEGIN:VCALENDAR
VERSION:2.0
PRODID:-//Colfax Chamber of Commerce - ECPv6.15.20//NONSGML v1.0//EN
CALSCALE:GREGORIAN
METHOD:PUBLISH
X-ORIGINAL-URL:https://explorecolfaxwa.com
X-WR-CALDESC:Events for Colfax Chamber of Commerce
REFRESH-INTERVAL;VALUE=DURATION:PT1H
X-Robots-Tag:noindex
X-PUBLISHED-TTL:PT1H
BEGIN:VTIMEZONE
TZID:UTC
BEGIN:STANDARD
TZOFFSETFROM:+0000
TZOFFSETTO:+0000
TZNAME:UTC
DTSTART:20240101T000000
END:STANDARD
END:VTIMEZONE
BEGIN:VEVENT
DTSTART;TZID=UTC:20250502T110000
DTEND;TZID=UTC:20250502T160000
DTSTAMP:20260422T203010
CREATED:20250501T184111Z
LAST-MODIFIED:20250505T191148Z
UID:10000416-1746183600-1746201600@explorecolfaxwa.com
SUMMARY:Clothing Event - Everlane
DESCRIPTION:Bully For You Vintage is bringing back one of their most beloved clothing events! Everlane items 40-70% off. Sale opens Friday\, May 2nd from 11am-4pm and Saturday\, May 3rd from 11am-4pm.
URL:https://explorecolfaxwa.com/event/clothing-event-everlane/2025-05-02/
LOCATION:Bully For You Vintage\, 220 N Main Street\, Colfax\, WA\, 99111\, United States
END:VEVENT
BEGIN:VEVENT
DTSTART;TZID=UTC:20250502T183000
DTEND;TZID=UTC:20250502T200000
DTSTAMP:20260422T203011
CREATED:20250328T203450Z
LAST-MODIFIED:20250410T212301Z
UID:10000123-1746210600-1746216000@explorecolfaxwa.com
SUMMARY:Dinner @ The Eagles
DESCRIPTION:Join us every Friday night from 6:30-8:00 pm at the Eagles Club in Colfax for a delicious dinner with a rotating menu each week. Everyone is welcome to attend and enjoy a great meal in a friendly atmosphere. Be sure to check our Facebook page for the weekly menu updates! \n217 N Main St #1816\, Colfax\, WA 99111 \nFraternal Order of Eagles #2317
URL:https://explorecolfaxwa.com/event/dinner-the-eagles/2025-05-02/
LOCATION:Fraternal Order of Eagles\, 217 N MAIN St\, Colfax\, WA\, 99111\, United States
END:VEVENT
END:VCALENDAR