BEGIN:VCALENDAR
VERSION:2.0
PRODID:-//Colfax Chamber of Commerce - ECPv6.15.20//NONSGML v1.0//EN
CALSCALE:GREGORIAN
METHOD:PUBLISH
X-ORIGINAL-URL:https://explorecolfaxwa.com
X-WR-CALDESC:Events for Colfax Chamber of Commerce
REFRESH-INTERVAL;VALUE=DURATION:PT1H
X-Robots-Tag:noindex
X-PUBLISHED-TTL:PT1H
BEGIN:VTIMEZONE
TZID:UTC
BEGIN:STANDARD
TZOFFSETFROM:+0000
TZOFFSETTO:+0000
TZNAME:UTC
DTSTART:20240101T000000
END:STANDARD
END:VTIMEZONE
BEGIN:VEVENT
DTSTART;TZID=UTC:20250426T100000
DTEND;TZID=UTC:20250426T140000
DTSTAMP:20260424T103458
CREATED:20250416T172829Z
LAST-MODIFIED:20250430T205017Z
UID:10000412-1745661600-1745676000@explorecolfaxwa.com
SUMMARY:Medication Take Back Day
DESCRIPTION:Medication Take Back Day! \nIt’s time for spring cleaning! Bring in your unused\, expired\, or unneeded medications to the Colfax Library Front Patio to be disposed of safely. Pick up free locking medication storage boxes while supplies last. Whitman County Public Health will be on site with sharps containers\, Narcan Rescue kits and other vital health information. \nApril 26th 10 am to 2 pm\n@Colfax Library \n102 S Main St\, Colfax\, WA 99111 \nProudly Hosted by SUPER Colfax in partnership with Whitman County Public Health & Colfax Police Department \nQUESTIONS? Contact Sara Golden \nSGOLDEN@ESD101.NET
URL:https://explorecolfaxwa.com/event/medication-take-back-day/
LOCATION:Colfax Library\, 102 S Main St\, Colfax\, WA\, 99111\, United States
END:VEVENT
BEGIN:VEVENT
DTSTART;TZID=UTC:20250426T200000
DTEND;TZID=UTC:20250426T230000
DTSTAMP:20260424T103458
CREATED:20250407T204002Z
LAST-MODIFIED:20250430T205017Z
UID:10000384-1745697600-1745708400@explorecolfaxwa.com
SUMMARY:Whitman County PROM
DESCRIPTION:Whitman County PROM is April 26 at the Palouse Empire Fairgrounds from 8-11 PM. Single tickets are $20 and couples are $40.  Tickets can be purchased at Colfax High School from Mrs. Aune before and after school and during lunch.
URL:https://explorecolfaxwa.com/event/whitman-county-prom/
LOCATION:Palouse Empire Fairgrounds\, 322 Fair Grounds Road\, Colfax\, WA\, 99111\, United States
ATTACH;FMTTYPE=image/jpeg:https://explorecolfaxwa.com/wp-content/uploads/2025/02/Colfax-School-District.jpg
END:VEVENT
END:VCALENDAR